BEGIN:VCALENDAR
VERSION:2.0
PRODID:-//hacksw/handcal//NONSGML v1.0//EN
BEGIN:VEVENT
SUMMARY:U15 : PLAYOFF 1/2 Finale HCC VS Caen/Le Havre
UID:e1774fa8-64b3-4f19-a53a-f8a9a09a9bb5
DTSTART:20260424T160000Z
DTEND:20260424T180000Z
LOCATION:Localisation   
CATEGORIES:Sportif
STATUS:
URL;VALUE=URI:https://www.hockey-compiegne.com/evenements/2026/04/24/u15-playoff-12-finale-hcc-vs-caenle-havre-2443888
END:VEVENT
END:VCALENDAR
