BEGIN:VCALENDAR
VERSION:2.0
PRODID:-//hacksw/handcal//NONSGML v1.0//EN
BEGIN:VEVENT
SUMMARY:U8: Plateau Asnieres
UID:78ffe3d8-56a8-4c13-96d0-e4f98a25aa36
DTSTART:20190929T101500Z
DTEND:20190929T124500Z
LOCATION:Localisation 1 Boulevard Pierre de Coubertin 92600 Asnieres-sur-Seine
CATEGORIES:Sportif
STATUS:
URL;VALUE=URI:https://www.hockey-compiegne.com/evenements/2019/09/29/u8-plateau-asnieres-1284589
END:VEVENT
END:VCALENDAR
